BEGIN:VCALENDAR
VERSION:2.0
PRODID:-//Senior Health Insurance Professionals - ECPv6.15.14//NONSGML v1.0//EN
CALSCALE:GREGORIAN
METHOD:PUBLISH
X-ORIGINAL-URL:https://srhealthinsurancepros.com
X-WR-CALDESC:Events for Senior Health Insurance Professionals
REFRESH-INTERVAL;VALUE=DURATION:PT1H
X-Robots-Tag:noindex
X-PUBLISHED-TTL:PT1H
BEGIN:VTIMEZONE
TZID:UTC
BEGIN:STANDARD
TZOFFSETFROM:+0000
TZOFFSETTO:+0000
TZNAME:UTC
DTSTART:20250101T000000
END:STANDARD
END:VTIMEZONE
BEGIN:VEVENT
DTSTART;TZID=UTC:20260411T113000
DTEND;TZID=UTC:20260411T113000
DTSTAMP:20260420T063750
CREATED:20260123T204924Z
LAST-MODIFIED:20260123T204924Z
UID:3673-1775907000-1775907000@srhealthinsurancepros.com
SUMMARY:Bonita Springs (Outback Steakhouse) – Medicare Simplified Complimentary Educational Workshop Sat
DESCRIPTION:Complimentary Meal Provided. \nDue to limited setting\, please RSVP @ 239-980-8599
URL:https://srhealthinsurancepros.com/event/bonita-springs-outback-steakhouse-medicare-simplified-complimentary-educational-workshop-sat-2/
LOCATION:Outback Steakhouse – Bonita Springs\, 27230 Bay Landing Drive\, Bonita Springs\, FL\, 34135\, United States
END:VEVENT
BEGIN:VEVENT
DTSTART;TZID=UTC:20260409T130000
DTEND;TZID=UTC:20260409T130000
DTSTAMP:20260420T063750
CREATED:20260123T204513Z
LAST-MODIFIED:20260123T204513Z
UID:3665-1775739600-1775739600@srhealthinsurancepros.com
SUMMARY:Ft. Myers (Perkins) – Medicare Simplified Complimentary Educational Workshop Thurs
DESCRIPTION:Complimentary Meal Provided. \nDue to limited setting\, please RSVP @ 239-980-8599
URL:https://srhealthinsurancepros.com/event/ft-myers-perkins-medicare-simplified-complimentary-educational-workshop-thurs-2/
LOCATION:Perkins Restaurant Ft. Myers\, 14801 S. Tamiami Trail\, Fort Myers\, FL\, 33912\, United States
END:VEVENT
BEGIN:VEVENT
DTSTART;TZID=UTC:20260408T180000
DTEND;TZID=UTC:20260408T180000
DTSTAMP:20260420T063750
CREATED:20260123T204623Z
LAST-MODIFIED:20260123T204623Z
UID:3667-1775671200-1775671200@srhealthinsurancepros.com
SUMMARY:Cape Coral (Cabaret) – Medicare Simplified Complimentary Educational Workshop Wed
DESCRIPTION:Complimentary Meal Provided. \nDue to limited setting\, please RSVP @ 239-980-8599
URL:https://srhealthinsurancepros.com/event/cape-coral-cabaret-medicare-simplified-complimentary-educational-workshop-wed-7/
LOCATION:Cape Cabaret -Cape Coral\, 4725 Vincennes Blvd\, Cape Coral\, FL\, 33904\, United States
END:VEVENT
BEGIN:VEVENT
DTSTART;TZID=UTC:20260407T180000
DTEND;TZID=UTC:20260407T180000
DTSTAMP:20260420T063750
CREATED:20260123T204437Z
LAST-MODIFIED:20260123T204437Z
UID:3663-1775584800-1775584800@srhealthinsurancepros.com
SUMMARY:Ft. Myers (Perkins) – Medicare Simplified Complimentary Educational Workshop Tues
DESCRIPTION:Complimentary Meal Provided. \nDue to limited setting\, please RSVP @ 239-980-8599
URL:https://srhealthinsurancepros.com/event/ft-myers-perkins-medicare-simplified-complimentary-educational-workshop-tues/
LOCATION:Perkins Restaurant Ft. Myers\, 14801 S. Tamiami Trail\, Fort Myers\, FL\, 33912\, United States
END:VEVENT
BEGIN:VEVENT
DTSTART;TZID=UTC:20260325T180000
DTEND;TZID=UTC:20260325T180000
DTSTAMP:20260420T063750
CREATED:20260123T203904Z
LAST-MODIFIED:20260123T203904Z
UID:3655-1774461600-1774461600@srhealthinsurancepros.com
SUMMARY:Cape Coral (Cabaret) – Medicare Simplified Complimentary Educational Workshop Wed
DESCRIPTION:Complimentary Meal Provided. \nDue to limited setting\, please RSVP @ 239-980-8599
URL:https://srhealthinsurancepros.com/event/cape-coral-cabaret-medicare-simplified-complimentary-educational-workshop-wed-6/
LOCATION:Cape Cabaret -Cape Coral\, 4725 Vincennes Blvd\, Cape Coral\, FL\, 33904\, United States
END:VEVENT
BEGIN:VEVENT
DTSTART;TZID=UTC:20260321T113000
DTEND;TZID=UTC:20260321T113000
DTSTAMP:20260420T063750
CREATED:20260123T204012Z
LAST-MODIFIED:20260123T204012Z
UID:3657-1774092600-1774092600@srhealthinsurancepros.com
SUMMARY:Bonita Springs (Outback Steakhouse) – Medicare Simplified Complimentary Educational Workshop Sat
DESCRIPTION:Complimentary Meal Provided. \nDue to limited setting\, please RSVP @ 239-980-8599
URL:https://srhealthinsurancepros.com/event/bonita-springs-outback-steakhouse-medicare-simplified-complimentary-educational-workshop-sat/
LOCATION:Outback Steakhouse – Bonita Springs\, 27230 Bay Landing Drive\, Bonita Springs\, FL\, 34135\, United States
END:VEVENT
BEGIN:VEVENT
DTSTART;TZID=UTC:20260319T130000
DTEND;TZID=UTC:20260319T130000
DTSTAMP:20260420T063750
CREATED:20260123T204226Z
LAST-MODIFIED:20260123T204226Z
UID:3661-1773925200-1773925200@srhealthinsurancepros.com
SUMMARY:Cape Coral (Perkins) – Medicare Simplified Complimentary Educational Workshop Thurs
DESCRIPTION:Complimentary Meal Provided. \nDue to limited setting\, please RSVP @ 239-980-8599
URL:https://srhealthinsurancepros.com/event/cape-coral-perkins-medicare-simplified-complimentary-educational-workshop-thurs/
LOCATION:Perkins Restaurant – Cape Coral\, 1551 Del Prado Blvd.\, Cape Coral\, FL\, 33990\, United States
END:VEVENT
BEGIN:VEVENT
DTSTART;TZID=UTC:20260318T180000
DTEND;TZID=UTC:20260318T180000
DTSTAMP:20260420T063750
CREATED:20260123T203824Z
LAST-MODIFIED:20260123T203824Z
UID:3653-1773856800-1773856800@srhealthinsurancepros.com
SUMMARY:Cape Coral (Cabaret) – Medicare Simplified Complimentary Educational Workshop Wed
DESCRIPTION:Complimentary Meal Provided. \nDue to limited setting\, please RSVP @ 239-980-8599
URL:https://srhealthinsurancepros.com/event/cape-coral-cabaret-medicare-simplified-complimentary-educational-workshop-wed-5/
LOCATION:Cape Cabaret -Cape Coral\, 4725 Vincennes Blvd\, Cape Coral\, FL\, 33904\, United States
END:VEVENT
BEGIN:VEVENT
DTSTART;TZID=UTC:20260317T180000
DTEND;TZID=UTC:20260317T180000
DTSTAMP:20260420T063750
CREATED:20260123T204139Z
LAST-MODIFIED:20260123T204139Z
UID:3659-1773770400-1773770400@srhealthinsurancepros.com
SUMMARY:Cape Coral (Perkins) – Medicare Simplified Complimentary Educational Workshop Tues
DESCRIPTION:Complimentary Meal Provided. \nDue to limited setting\, please RSVP @ 239-980-8599
URL:https://srhealthinsurancepros.com/event/cape-coral-perkins-medicare-simplified-complimentary-educational-workshop-tues/
LOCATION:Perkins Restaurant – Cape Coral\, 1551 Del Prado Blvd.\, Cape Coral\, FL\, 33990\, United States
END:VEVENT
BEGIN:VEVENT
DTSTART;TZID=UTC:20260311T180000
DTEND;TZID=UTC:20260311T180000
DTSTAMP:20260420T063750
CREATED:20260123T203756Z
LAST-MODIFIED:20260123T203756Z
UID:3651-1773252000-1773252000@srhealthinsurancepros.com
SUMMARY:Cape Coral (Cabaret) – Medicare Simplified Complimentary Educational Workshop Wed
DESCRIPTION:Complimentary Meal Provided. \nDue to limited setting\, please RSVP @ 239-980-8599
URL:https://srhealthinsurancepros.com/event/cape-coral-cabaret-medicare-simplified-complimentary-educational-workshop-wed-4/
LOCATION:Cape Cabaret -Cape Coral\, 4725 Vincennes Blvd\, Cape Coral\, FL\, 33904\, United States
END:VEVENT
BEGIN:VEVENT
DTSTART;TZID=UTC:20260305T130000
DTEND;TZID=UTC:20260305T130000
DTSTAMP:20260420T063750
CREATED:20260123T203559Z
LAST-MODIFIED:20260123T203559Z
UID:3649-1772715600-1772715600@srhealthinsurancepros.com
SUMMARY:Ft. Myers (Perkins) – Medicare Simplified Complimentary Educational Workshop Thurs
DESCRIPTION:Complimentary Meal Provided. \nDue to limited setting\, please RSVP @ 239-980-8599
URL:https://srhealthinsurancepros.com/event/ft-myers-perkins-medicare-simplified-complimentary-educational-workshop-thurs/
LOCATION:Perkins Restaurant Ft. Myers\, 14801 S. Tamiami Trail\, Fort Myers\, FL\, 33912\, United States
END:VEVENT
BEGIN:VEVENT
DTSTART;TZID=UTC:20260303T180000
DTEND;TZID=UTC:20260303T180000
DTSTAMP:20260420T063750
CREATED:20260123T194729Z
LAST-MODIFIED:20260123T203504Z
UID:3625-1772560800-1772560800@srhealthinsurancepros.com
SUMMARY:Ft. Myers (Perkins) – Medicare Simplified Complimentary Educational Workshop Tues
DESCRIPTION:Complimentary Meal Provided. \nDue to limited setting\, please RSVP @ 239-980-8599
URL:https://srhealthinsurancepros.com/event/ft-myers-medicare-simplified-complimentary-educational-workshop-tues/
LOCATION:Perkins Restaurant Ft. Myers\, 14801 S. Tamiami Trail\, Fort Myers\, FL\, 33912\, United States
END:VEVENT
BEGIN:VEVENT
DTSTART;TZID=UTC:20260222T130000
DTEND;TZID=UTC:20260222T130000
DTSTAMP:20260420T063750
CREATED:20260123T203334Z
LAST-MODIFIED:20260123T203334Z
UID:3646-1771765200-1771765200@srhealthinsurancepros.com
SUMMARY:Cape Coral (Perkins) – Medicare Simplified Complimentary Educational Workshop Sun
DESCRIPTION:Complimentary Meal Provided. \nDue to limited setting\, please RSVP @ 239-980-8599
URL:https://srhealthinsurancepros.com/event/cape-coral-perkins-medicare-simplified-complimentary-educational-workshop-sun/
LOCATION:Perkins Restaurant – Cape Coral\, 1551 Del Prado Blvd.\, Cape Coral\, FL\, 33990\, United States
END:VEVENT
BEGIN:VEVENT
DTSTART;TZID=UTC:20260220T180000
DTEND;TZID=UTC:20260220T180000
DTSTAMP:20260420T063750
CREATED:20260123T203234Z
LAST-MODIFIED:20260123T203234Z
UID:3644-1771610400-1771610400@srhealthinsurancepros.com
SUMMARY:Cape Coral (Perkins) – Medicare Simplified Complimentary Educational Workshop Fri
DESCRIPTION:Complimentary Meal Provided. \nDue to limited setting\, please RSVP @ 239-980-8599
URL:https://srhealthinsurancepros.com/event/cape-coral-perkins-medicare-simplified-complimentary-educational-workshop-fri/
LOCATION:Perkins Restaurant – Cape Coral\, 1551 Del Prado Blvd.\, Cape Coral\, FL\, 33990\, United States
END:VEVENT
BEGIN:VEVENT
DTSTART;TZID=UTC:20260218T180000
DTEND;TZID=UTC:20260218T180000
DTSTAMP:20260420T063750
CREATED:20260123T202809Z
LAST-MODIFIED:20260123T202809Z
UID:3638-1771437600-1771437600@srhealthinsurancepros.com
SUMMARY:Cape Coral (Cabaret) – Medicare Simplified Complimentary Educational Workshop Wed
DESCRIPTION:Complimentary Meal Provided. \nDue to limited setting\, please RSVP @ 239-980-8599
URL:https://srhealthinsurancepros.com/event/cape-coral-cabaret-medicare-simplified-complimentary-educational-workshop-wed-3/
LOCATION:Cape Cabaret -Cape Coral\, 4725 Vincennes Blvd\, Cape Coral\, FL\, 33904\, United States
END:VEVENT
BEGIN:VEVENT
DTSTART;TZID=UTC:20260217T113000
DTEND;TZID=UTC:20260217T113000
DTSTAMP:20260420T063750
CREATED:20260123T203035Z
LAST-MODIFIED:20260123T203035Z
UID:3640-1771327800-1771327800@srhealthinsurancepros.com
SUMMARY:Bonita Springs (Outback Steakhouse) – Medicare Simplified Complimentary Educational Workshop Tues
DESCRIPTION:Complimentary Meal Provided. \nDue to limited setting\, please RSVP @ 239-980-8599
URL:https://srhealthinsurancepros.com/event/bonita-springs-outback-steakhouse-medicare-simplified-complimentary-educational-workshop-tues/
LOCATION:Outback Steakhouse – Bonita Springs\, 27230 Bay Landing Drive\, Bonita Springs\, FL\, 34135\, United States
END:VEVENT
BEGIN:VEVENT
DTSTART;TZID=UTC:20260211T180000
DTEND;TZID=UTC:20260211T180000
DTSTAMP:20260420T063750
CREATED:20260123T202605Z
LAST-MODIFIED:20260123T202605Z
UID:3636-1770832800-1770832800@srhealthinsurancepros.com
SUMMARY:Cape Coral (Cabaret) – Medicare Simplified Complimentary Educational Workshop Wed
DESCRIPTION:Complimentary Meal Provided. \nDue to limited setting\, please RSVP @ 239-980-8599
URL:https://srhealthinsurancepros.com/event/cape-coral-cabaret-medicare-simplified-complimentary-educational-workshop-wed-2/
LOCATION:Cape Cabaret -Cape Coral\, 4725 Vincennes Blvd\, Cape Coral\, FL\, 33904\, United States
END:VEVENT
BEGIN:VEVENT
DTSTART;TZID=UTC:20260205T130000
DTEND;TZID=UTC:20260205T130000
DTSTAMP:20260420T063750
CREATED:20260123T201741Z
LAST-MODIFIED:20260123T203051Z
UID:3634-1770296400-1770296400@srhealthinsurancepros.com
SUMMARY:Ft. Myers (Perkins) – Medicare Simplified Complimentary Educational Workshop Thurs
DESCRIPTION:Complimentary Meal Provided. \nDue to limited setting\, please RSVP @ 239-980-8599
URL:https://srhealthinsurancepros.com/event/ft-myers-perkins-medicare-simplified-complimentary-educational-workshop-2/
LOCATION:Perkins Restaurant Ft. Myers\, 14801 S. Tamiami Trail\, Fort Myers\, FL\, 33912\, United States
END:VEVENT
BEGIN:VEVENT
DTSTART;TZID=UTC:20260204T180000
DTEND;TZID=UTC:20260204T180000
DTSTAMP:20260420T063750
CREATED:20260123T195607Z
LAST-MODIFIED:20260123T195907Z
UID:3629-1770228000-1770228000@srhealthinsurancepros.com
SUMMARY:Cape Coral (Cabaret) – Medicare Simplified Complimentary Educational Workshop Wed
DESCRIPTION:Complimentary Meal Provided. \nDue to limited setting\, please RSVP @ 239-980-8599
URL:https://srhealthinsurancepros.com/event/cape-coral-cabaret-medicare-simplified-complimentary-educational-workshop-wed/
LOCATION:Cape Cabaret -Cape Coral\, 4725 Vincennes Blvd\, Cape Coral\, FL\, 33904\, United States
END:VEVENT
BEGIN:VEVENT
DTSTART;TZID=UTC:20260203T180000
DTEND;TZID=UTC:20260203T180000
DTSTAMP:20260420T063750
CREATED:20260123T201519Z
LAST-MODIFIED:20260123T203102Z
UID:3623-1770141600-1770141600@srhealthinsurancepros.com
SUMMARY:Ft. Myers (Perkins) – Medicare Simplified Complimentary Educational Workshop Tues
DESCRIPTION:Complimentary Meal Provided. \nDue to limited setting\, please RSVP @ 239-980-8599
URL:https://srhealthinsurancepros.com/event/ft-myers-perkins-medicare-simplified-complimentary-educational-workshop/
LOCATION:Perkins Restaurant Ft. Myers\, 14801 S. Tamiami Trail\, Fort Myers\, FL\, 33912\, United States
END:VEVENT
END:VCALENDAR