BEGIN:VCALENDAR
VERSION:2.0
PRODID:-//Senior Health Insurance Professionals - ECPv6.15.14//NONSGML v1.0//EN
CALSCALE:GREGORIAN
METHOD:PUBLISH
X-WR-CALNAME:Senior Health Insurance Professionals
X-ORIGINAL-URL:https://srhealthinsurancepros.com
X-WR-CALDESC:Events for Senior Health Insurance Professionals
REFRESH-INTERVAL;VALUE=DURATION:PT1H
X-Robots-Tag:noindex
X-PUBLISHED-TTL:PT1H
BEGIN:VTIMEZONE
TZID:UTC
BEGIN:STANDARD
TZOFFSETFROM:+0000
TZOFFSETTO:+0000
TZNAME:UTC
DTSTART:20250101T000000
END:STANDARD
END:VTIMEZONE
BEGIN:VEVENT
DTSTART;TZID=UTC:20260516T113000
DTEND;TZID=UTC:20260516T113000
DTSTAMP:20260420T063549
CREATED:20260123T210100Z
LAST-MODIFIED:20260123T210100Z
UID:3689-1778931000-1778931000@srhealthinsurancepros.com
SUMMARY:Bonita Springs (Outback Steakhouse) – Medicare Simplified Complimentary Educational Workshop Sat
DESCRIPTION:Complimentary Meal Provided. \nDue to limited setting\, please RSVP @ 239-980-8599
URL:https://srhealthinsurancepros.com/event/bonita-springs-outback-steakhouse-medicare-simplified-complimentary-educational-workshop-sat-3/
LOCATION:Outback Steakhouse – Bonita Springs\, 27230 Bay Landing Drive\, Bonita Springs\, FL\, 34135\, United States
END:VEVENT
END:VCALENDAR