BEGIN:VCALENDAR
VERSION:2.0
PRODID:-//Senior Health Insurance Professionals - ECPv6.15.14//NONSGML v1.0//EN
CALSCALE:GREGORIAN
METHOD:PUBLISH
X-ORIGINAL-URL:https://srhealthinsurancepros.com
X-WR-CALDESC:Events for Senior Health Insurance Professionals
REFRESH-INTERVAL;VALUE=DURATION:PT1H
X-Robots-Tag:noindex
X-PUBLISHED-TTL:PT1H
BEGIN:VTIMEZONE
TZID:UTC
BEGIN:STANDARD
TZOFFSETFROM:+0000
TZOFFSETTO:+0000
TZNAME:UTC
DTSTART:20250101T000000
END:STANDARD
END:VTIMEZONE
BEGIN:VEVENT
DTSTART;TZID=UTC:20260325T180000
DTEND;TZID=UTC:20260325T180000
DTSTAMP:20260420T063837
CREATED:20260123T203904Z
LAST-MODIFIED:20260123T203904Z
UID:3655-1774461600-1774461600@srhealthinsurancepros.com
SUMMARY:Cape Coral (Cabaret) – Medicare Simplified Complimentary Educational Workshop Wed
DESCRIPTION:Complimentary Meal Provided. \nDue to limited setting\, please RSVP @ 239-980-8599
URL:https://srhealthinsurancepros.com/event/cape-coral-cabaret-medicare-simplified-complimentary-educational-workshop-wed-6/
LOCATION:Cape Cabaret -Cape Coral\, 4725 Vincennes Blvd\, Cape Coral\, FL\, 33904\, United States
END:VEVENT
END:VCALENDAR