BEGIN:VCALENDAR
VERSION:2.0
PRODID:-//Senior Health Insurance Professionals - ECPv6.15.14//NONSGML v1.0//EN
CALSCALE:GREGORIAN
METHOD:PUBLISH
X-ORIGINAL-URL:https://srhealthinsurancepros.com
X-WR-CALDESC:Events for Senior Health Insurance Professionals
REFRESH-INTERVAL;VALUE=DURATION:PT1H
X-Robots-Tag:noindex
X-PUBLISHED-TTL:PT1H
BEGIN:VTIMEZONE
TZID:UTC
BEGIN:STANDARD
TZOFFSETFROM:+0000
TZOFFSETTO:+0000
TZNAME:UTC
DTSTART:20250101T000000
END:STANDARD
END:VTIMEZONE
BEGIN:VEVENT
DTSTART;TZID=UTC:20260220T180000
DTEND;TZID=UTC:20260220T180000
DTSTAMP:20260420T081131
CREATED:20260123T203234Z
LAST-MODIFIED:20260123T203234Z
UID:3644-1771610400-1771610400@srhealthinsurancepros.com
SUMMARY:Cape Coral (Perkins) – Medicare Simplified Complimentary Educational Workshop Fri
DESCRIPTION:Complimentary Meal Provided. \nDue to limited setting\, please RSVP @ 239-980-8599
URL:https://srhealthinsurancepros.com/event/cape-coral-perkins-medicare-simplified-complimentary-educational-workshop-fri/
LOCATION:Perkins Restaurant – Cape Coral\, 1551 Del Prado Blvd.\, Cape Coral\, FL\, 33990\, United States
END:VEVENT
END:VCALENDAR